BEGIN:VCALENDAR
VERSION:2.0
PRODID:-//TheCode20: Montreal Race Week Afterparty 2025 - Tickets For Sale - ECPv6.8.1//NONSGML v1.0//EN
CALSCALE:GREGORIAN
METHOD:PUBLISH
X-ORIGINAL-URL:https://thecode20.com
X-WR-CALDESC:Events for TheCode20: Montreal Race Week Afterparty 2025 - Tickets For Sale
REFRESH-INTERVAL;VALUE=DURATION:PT1H
X-Robots-Tag:noindex
X-PUBLISHED-TTL:PT1H
BEGIN:VTIMEZONE
TZID:UTC
BEGIN:STANDARD
TZOFFSETFROM:+0000
TZOFFSETTO:+0000
TZNAME:UTC
DTSTART:20250101T000000
END:STANDARD
END:VTIMEZONE
BEGIN:VEVENT
DTSTART;TZID=UTC:20250715T220000
DTEND;TZID=UTC:20250716T050000
DTSTAMP:20260423T210027
CREATED:20250512T225540Z
LAST-MODIFIED:20250523T163604Z
UID:6757-1752616800-1752642000@thecode20.com
SUMMARY:Montreal Race Week 2025 Afterparty at La Voúte
DESCRIPTION:
URL:https://thecode20.com/event/montreal-2025-afterparty-at-la-voute/
ATTACH;FMTTYPE=image/jpeg:https://thecode20.com/wp-content/uploads/2025/05/F1-Canadian-GP-2025-Afterparty-at-La-Voute.jpeg
ORGANIZER;CN="TheCode20":MAILTO:elena@thecode20.com
END:VEVENT
END:VCALENDAR